BEGIN:VCALENDAR
VERSION:2.0
PRODID:-// - ECPv6.15.20//NONSGML v1.0//EN
CALSCALE:GREGORIAN
METHOD:PUBLISH
X-ORIGINAL-URL:https://bodhmarga.org
X-WR-CALDESC:Events for 
REFRESH-INTERVAL;VALUE=DURATION:PT1H
X-Robots-Tag:noindex
X-PUBLISHED-TTL:PT1H
BEGIN:VTIMEZONE
TZID:Asia/Kolkata
BEGIN:STANDARD
TZOFFSETFROM:+0530
TZOFFSETTO:+0530
TZNAME:IST
DTSTART:20220101T000000
END:STANDARD
END:VTIMEZONE
BEGIN:VTIMEZONE
TZID:UTC
BEGIN:STANDARD
TZOFFSETFROM:+0000
TZOFFSETTO:+0000
TZNAME:UTC
DTSTART:20220101T000000
END:STANDARD
END:VTIMEZONE
BEGIN:VEVENT
DTSTART;TZID=Asia/Kolkata:20240322T180000
DTEND;TZID=Asia/Kolkata:20240322T200000
DTSTAMP:20260419T203457
CREATED:20240322T121956Z
LAST-MODIFIED:20240322T124509Z
UID:12266-1711130400-1711137600@bodhmarga.org
SUMMARY:Naad Yoga Meditation - Physical Event
DESCRIPTION:Naad Yoga is the ultimate tool for sustainable peace in the modern busy lifestyle. \nBodhmarga uses the tool of Sound & Presence in the Bhaav Connection – the Connection made with the Divine Within by connecting with the Consciousness of Oneness through the powerful track which guides you towards the voice of your own Soul\, as you are guided further into the experience of Naad Yog. \nSound Meditation through Naad Yog allows one to experience the Awareness of his or her own vibrations\, effortlessly\, in the LIVE  presence of the Naad Yoga masters who are vibrationally blessing us with their presence & guidance. \nExploring the depths of sonic resonance\, Naad Yoga is a profound journey towards the union of individual consciousness with the cosmic symphony. In this sacred practice\, the flow of sound\, denoted by “Nada\,” intertwines with the essence of Yoga\, signifying union. Every sound\, from the gentle breeze to the thunderous roar\, carries within it the essence of the universe’s vibrational tapestry\, guiding practitioners towards a harmonious alignment with cosmic consciousness. \nFrom the intricate helix of human DNA to the vast expanse of celestial bodies\, the cosmos sings its song of existence. Each entity\, whether minuscule or monumental\, contributes its unique melody to the cosmic orchestra. Through Naad Yoga\, individuals attune themselves to this cosmic melody\, transcending the boundaries of the self to merge seamlessly with the universal rhythm. \nEnveloped within the cosmic chorus\, practitioners or seekers of Naad Yoga experience profound transformation. As they resonate with the frequency of the universe\, they undergo a metamorphosis into Nada Yogis\, embodying the harmonious balance of existence. Through this journey\, the body finds healing\, the mind discovers equilibrium\, and individuals emerge as vibrant beings pulsating with well-being. \nNada Yoga\, often hailed as the yoga of sound\, intertwines with the ancient wisdom of Ayurveda\, offering a path towards holistic wellness. Through this practice\, individuals immerse themselves in the symphony of existence\, transcending the constraints of the ego to embrace the essence of the present moment. \nWithin the realm of Nada Yoga\, the harmonious resonance of musical instruments serves as a gateway to transcendence. By harnessing the vibrations of singing bowls\, bells\, or gongs\, practitioners induce a meditative state\, paving the way for deep healing and spiritual elevation. Through the sacred practice of Nadopasana\, individuals cultivate reverence for sound\, recognizing it as a divine manifestation of universal consciousness. \nBenefits of Naad Yoga Sound Meditation: \n\nAttainment of Inner Peace: Through immersion in the cosmic symphony\, practitioners find solace and tranquility\, fostering a deep sense of inner peace.\nLiberation from Overthinking: The practice of Naad Yoga liberates the mind from the shackles of incessant thoughts\, fostering clarity and serenity.\nRegulation of Emotions: By harmonizing with the universal vibrations\, individuals gain mastery over their emotions\, leading to emotional balance and stability.\nResolution of Relationship Conflicts: Naad Yoga facilitates harmony within relationships by fostering empathy\, understanding\, and effective communication.\nClarity of Perception: Through the dissolution of mental patterns\, practitioners develop clarity of perception\, enabling them to navigate life’s challenges with discernment and wisdom.\nStress Reduction: The soothing vibrations of sound meditation alleviate stress and anxiety\, promoting overall well-being and vitality.\nPromotion of Deep Sleep: By attuning to the cosmic rhythm\, individuals experience restorative sleep\, rejuvenating the body\, mind\, and spirit.\nReversal of Disorders: Regular experience & exposure to Naad Yoga holds the potential to reverse physical and psychological disorders\, restoring balance and vitality to the individual.\nDissipation of Anger\, Rejection & Resentment: Through the transformative power of sound\, pent-up emotions such as anger and resentment are released\, paving the way for inner healing and forgiveness.You just have to be present in the LIVE presence of Vibhushri\, in person\, at Mumbai\, India.
URL:https://bodhmarga.org/event/naad-yoga-sound-meditation/
LOCATION:Mumbai\, India\, Borivali\, Maharashtra\, India
ATTACH;FMTTYPE=image/jpeg:https://bodhmarga.org/wp-content/uploads/2024/03/IMG-20240321-WA0000.jpg
END:VEVENT
BEGIN:VEVENT
DTSTART;TZID=Asia/Kolkata:20240308T090000
DTEND;TZID=Asia/Kolkata:20240310T120000
DTSTAMP:20260419T203457
CREATED:20240301T095816Z
LAST-MODIFIED:20240301T100142Z
UID:12313-1709888400-1710072000@bodhmarga.org
SUMMARY:Mahashivratri
DESCRIPTION:Mahashivratri is considered a highly auspicious for harnessing spiritual energy. The festival is believed to be a time when cosmic energies are at their peak\, and devotees can tap into this energy to enhance their spiritual practices and seek blessings from Lord Shiva. \nMahashivratri event is a residential retreat in the Presence of Vibhushri. It consists of various programmes for Soul upliftment like Discourses\, Sound meditation\, Sun meditation\, Devotional kirtan on night of Mahashivratri. However\, the main highlight is the quick Awakening by Bodhopaaya\, directly from Vibhushri. \n 
URL:https://bodhmarga.org/event/events-mahashivratri/
LOCATION:Maharashtra
END:VEVENT
BEGIN:VEVENT
DTSTART;TZID=UTC:20231027T120000
DTEND;TZID=UTC:20231029T150000
DTSTAMP:20260419T203457
CREATED:20230914T024411Z
LAST-MODIFIED:20230914T065505Z
UID:10678-1698408000-1698591600@bodhmarga.org
SUMMARY:Yog Shakti '23
DESCRIPTION:Yog Shakti is The Sacred Celebration of the Energies of the Divine Feminine\, Devi\, in the auspicious period of Navratri. \nThe Navratri is an Indian festival that honors the feminine manifestations of the Divine in its nine forms. \nA 3-day\, residential camp at a serene space amidst the lush landscapes & tranquility of outskirts of Mumbai. \nLearn to direct\, devote & delight your natural energies in the Bhav of Surrender to the Soul beyond the high energies & intense spirits of the emotions & perspectives of this human mind and body. \nYog Shakti event is a residential retreat in the Presence of Vibhushri. It consists of various programmes for Soul upliftment like Discourses\, Sound meditation\, Sun meditation\, Devotional kirtan on nights of the Yog Shakti Shibir.  \nJoin a devoted group of Soyaras to receive the blessings of the Universal Mother – Ma Shakti in the embodied celebration of the Divine Feminine within. \nIn collaboration with\, Wellness Vibe.
URL:https://bodhmarga.org/event/yog-shakti-23/
LOCATION:Maharashtra
END:VEVENT
BEGIN:VEVENT
DTSTART;TZID=Asia/Kolkata:20231006T190000
DTEND;TZID=Asia/Kolkata:20231006T203000
DTSTAMP:20260419T203457
CREATED:20230913T005019Z
LAST-MODIFIED:20230918T021313Z
UID:10636-1696618800-1696624200@bodhmarga.org
SUMMARY:Pasaydaan
DESCRIPTION:Pasaydaan is like the nectar that contains the 18 chapters of Shrimad Bhagwat Gita in 9 verses. Since it has been revealed to Vibhushri by the Gurus themselves\, it has the power of a seed that brings progress in every area of the life of a seeker who is willing to receive it.  \nPasaydaan event consists of  \nExclusive Q&A with Vibhushri  \nUnderstanding and Practical application of Pasaydaan \nSoksh Moksh – Mass forgiveness
URL:https://bodhmarga.org/event/pasaydaan-october-2023/
LOCATION:Zoom LIVE
END:VEVENT
BEGIN:VEVENT
DTSTART;TZID=UTC:20230923T210000
DTEND;TZID=UTC:20230926T090000
DTSTAMP:20260419T203457
CREATED:20230913T010104Z
LAST-MODIFIED:20230913T015824Z
UID:10641-1695502800-1695718800@bodhmarga.org
SUMMARY:Bodh Yatra - Garudeshwar
DESCRIPTION:Bodh Yatra is a Tour Activity event which allows the Soyaras to have the unique opportunity to expand the horizons of their Awareness while visiting the serene temples and holy spaces of consecrated Divine energies. \nThis is a Physical Event with Limited participation.
URL:https://bodhmarga.org/event/bodh-yatra-garudeshwar/
LOCATION:Gujarat\, India\, Narmada District\, Gujarat\, India
END:VEVENT
BEGIN:VEVENT
DTSTART;TZID=Asia/Kolkata:20230906T190000
DTEND;TZID=Asia/Kolkata:20230906T203000
DTSTAMP:20260419T203457
CREATED:20230802T012834Z
LAST-MODIFIED:20230914T060402Z
UID:7645-1694026800-1694032200@bodhmarga.org
SUMMARY:Pasaydaan
DESCRIPTION:Pasaydaan is like the nectar that contains the 18 chapters of Shrimad Bhagwat Gita in 9 verses. Since it has been revealed to Vibhushri by the Gurus themselves\, it has the power of a seed that brings progress in every area of the life of a seeker who is willing to receive it.  \nPasaydaan event consists of  \nExclusive Q&A with Vibhushri  \nUnderstanding and Practical application of Pasaydaan \nSoksh Moksh – Mass forgiveness
URL:https://bodhmarga.org/event/pasaydaan-september-2023/
LOCATION:Zoom LIVE
END:VEVENT
BEGIN:VEVENT
DTSTART;TZID=Asia/Kolkata:20230815T190000
DTEND;TZID=Asia/Kolkata:20230815T203000
DTSTAMP:20260419T203457
CREATED:20230815T014523Z
LAST-MODIFIED:20230914T060333Z
UID:9193-1692126000-1692131400@bodhmarga.org
SUMMARY:Pasaydaan
DESCRIPTION:Pasaydaan is like the nectar that contains the 18 chapters of Shrimad Bhagwat Gita in 9 verses. Since it has been revealed to Vibhushri by the Gurus themselves\, it has the power of a seed that brings progress in every area of the life of a seeker who is willing to receive it.  \nPasaydaan event consists of  \nExclusive Q&A with Vibhushri  \nUnderstanding and Practical application of Pasaydaan \nSoksh Moksh – Mass forgiveness
URL:https://bodhmarga.org/event/pasaydaan-aug-2023/
LOCATION:Zoom LIVE
END:VEVENT
BEGIN:VEVENT
DTSTART;TZID=Asia/Kolkata:20230703T190000
DTEND;TZID=Asia/Kolkata:20230703T203000
DTSTAMP:20260419T203457
CREATED:20230913T004851Z
LAST-MODIFIED:20230914T060248Z
UID:10638-1688410800-1688416200@bodhmarga.org
SUMMARY:Pasaydaan
DESCRIPTION:Guru Purnima Special \nPasaydaan is like the nectar that contains the 18 chapters of Shrimad Bhagwat Gita in 9 verses. Since it has been revealed to Vibhushri by the Gurus themselves\, it has the power of a seed that brings progress in every area of the life of a seeker who is willing to receive it.  \nPasaydaan event consists of  \nExclusive Q&A with Vibhushri  \nUnderstanding and Practical application of Pasaydaan \nSoksh Moksh – Mass forgiveness \n  \n(Also\, listen to our Guru Purnima Special Satsang from 2021 and receive a glimpse of the bhav & high energies of that auspicious day. Experience the Sacred Sounds & Tuning from the Guru Tattva)
URL:https://bodhmarga.org/event/pasaydaan-july-2023/
LOCATION:Zoom LIVE
END:VEVENT
BEGIN:VEVENT
DTSTART;VALUE=DATE:20230701
DTEND;VALUE=DATE:20240909
DTSTAMP:20260419T203457
CREATED:20230802T005451Z
LAST-MODIFIED:20230922T052737Z
UID:7638-1688169600-1725839999@bodhmarga.org
SUMMARY:E Bhav - Daily
DESCRIPTION:E- bhav consists of Scientific practices (CARE Practice for Mind\, Body\, Heart Cleansing) \, devotional kirtans and transmutative prayer Pasaydaan.  \n\n\n\nIt’s a daily online practice to be in Bhav and connect with our entire community of Soyaras (People who contribute in your spiritual upliftment). Also\, has Vibhushri’s daily online presence.To Know more you can visit our Projects – Bhav Culture Page. \n\n\n\nTo be a part of this community and become a member\, you can register at New e Bhaav Prayers
URL:https://bodhmarga.org/event/e-bhav/
LOCATION:Maharashtra
END:VEVENT
BEGIN:VEVENT
DTSTART;TZID=UTC:20230620T190000
DTEND;TZID=UTC:20230628T235900
DTSTAMP:20260419T203457
CREATED:20230802T013303Z
LAST-MODIFIED:20230914T065553Z
UID:7654-1687287600-1687996740@bodhmarga.org
SUMMARY:Bodhwari
DESCRIPTION:Bodhwari is the unique festival\, an inner celebration to move toward the Divine within. It is based on the Wari festival of Maharashtra.  \nIt is a blissful pilgrimage of awareness of the ‘Self’ and awakening to your true nature. Embrace the teachings of the great saints and feel the love\, devotion and energy. Elevate yourself to realise the inner vibrations and awaken to the divine ‘Nada’ of Hari. \nBenefits –  \n\nGet rooted in self.\nRealise the ‘True Self’.\nConnect with Divine vibrations within (Hari).\nLife becomes a blessing.\n\n \n 
URL:https://bodhmarga.org/event/bodhwari-june-2023/
LOCATION:Maharashtra
END:VEVENT
BEGIN:VEVENT
DTSTART;TZID=Asia/Kolkata:20230214T150000
DTEND;TZID=Asia/Kolkata:20230218T120000
DTSTAMP:20260419T203457
CREATED:20230802T014417Z
LAST-MODIFIED:20230922T064222Z
UID:7660-1676386800-1676721600@bodhmarga.org
SUMMARY:Mahashivratri
DESCRIPTION:Mahashivratri is considered a highly auspicious for harnessing spiritual energy. The festival is believed to be a time when cosmic energies are at their peak\, and devotees can tap into this energy to enhance their spiritual practices and seek blessings from Lord Shiva. \nMahashivratri event is a residential retreat in the Presence of Vibhushri. It consists of various programmes for Soul upliftment like Discourses\, Sound meditation\, Sun meditation\, Devotional kirtan on night of Mahashivratri. However\, the main highlight is the quick Awakening by Bodhopaaya\, directly from Vibhushri. \n 
URL:https://bodhmarga.org/event/mahashivratri-feb-2023/
LOCATION:Maharashtra
END:VEVENT
END:VCALENDAR